BEGIN:VCALENDAR
VERSION:2.0
PRODID:-//SAMHIN - ECPv6.15.20//NONSGML v1.0//EN
CALSCALE:GREGORIAN
METHOD:PUBLISH
X-WR-CALNAME:SAMHIN
X-ORIGINAL-URL:https://samhin.org
X-WR-CALDESC:Events for SAMHIN
REFRESH-INTERVAL;VALUE=DURATION:PT1H
X-Robots-Tag:noindex
X-PUBLISHED-TTL:PT1H
BEGIN:VTIMEZONE
TZID:America/New_York
BEGIN:DAYLIGHT
TZOFFSETFROM:-0500
TZOFFSETTO:-0400
TZNAME:EDT
DTSTART:20230312T070000
END:DAYLIGHT
BEGIN:STANDARD
TZOFFSETFROM:-0400
TZOFFSETTO:-0500
TZNAME:EST
DTSTART:20231105T060000
END:STANDARD
BEGIN:DAYLIGHT
TZOFFSETFROM:-0500
TZOFFSETTO:-0400
TZNAME:EDT
DTSTART:20240310T070000
END:DAYLIGHT
BEGIN:STANDARD
TZOFFSETFROM:-0400
TZOFFSETTO:-0500
TZNAME:EST
DTSTART:20241103T060000
END:STANDARD
BEGIN:DAYLIGHT
TZOFFSETFROM:-0500
TZOFFSETTO:-0400
TZNAME:EDT
DTSTART:20250309T070000
END:DAYLIGHT
BEGIN:STANDARD
TZOFFSETFROM:-0400
TZOFFSETTO:-0500
TZNAME:EST
DTSTART:20251102T060000
END:STANDARD
END:VTIMEZONE
BEGIN:VEVENT
DTSTART;TZID=America/New_York:20241006T110000
DTEND;TZID=America/New_York:20241006T110000
DTSTAMP:20260419T095840
CREATED:20240510T112231Z
LAST-MODIFIED:20240916T224705Z
UID:3896-1728212400-1728212400@samhin.org
SUMMARY:Mental Health Screenings and Health Fair - Morganville\, NJ
DESCRIPTION:SAMHIN team of mental health providers will provide free screenings for psychological and emotional problems and addiction. We will answer your questions about mental illness and provide any advice and referrals when needed. We will respect your privacy during the mental health screenings. Free educational handouts will be available. \nJoin us if . . . \n\nIf you smoke or chew tobacco and want to learn about how this is harmful and advice on quitting. Free testing will be provided.\nYou would like to speak confidentially to the SAMHIN team of mental health providers.\nYou have any questions about a loved one’s struggles with stress\, depression\, tension\, or alcohol or drug use.\nIf you have any questions or need advice about mental illness and addiction.\nIf you would like free mental health screening.\nIf you have any questions about diagnosis and treatment.\nIf you have questions about where to go for treatment.\n\nIn addition to mental health screenings\, there will be health screenings like blood sugar\, vision\, diet\, and nutrition. In addition\, a physical therapist and podiatrist – Foot and ankle specialist- will be available for assessment and guidance.
URL:https://samhin.org/event/mental-health-screenings-and-health-fair-morganville-nj-5/
LOCATION:Guruvayoorappan Temple\, 31 Wooleytown Road\, Morganville\, NJ\, 07751\, United States
CATEGORIES:Health Fair,Mental Health Screening
END:VEVENT
END:VCALENDAR