BEGIN:VCALENDAR
VERSION:2.0
PRODID:-//SAMHIN - ECPv6.15.20//NONSGML v1.0//EN
CALSCALE:GREGORIAN
METHOD:PUBLISH
X-WR-CALNAME:SAMHIN
X-ORIGINAL-URL:https://samhin.org
X-WR-CALDESC:Events for SAMHIN
REFRESH-INTERVAL;VALUE=DURATION:PT1H
X-Robots-Tag:noindex
X-PUBLISHED-TTL:PT1H
BEGIN:VTIMEZONE
TZID:America/New_York
BEGIN:DAYLIGHT
TZOFFSETFROM:-0500
TZOFFSETTO:-0400
TZNAME:EDT
DTSTART:20230312T070000
END:DAYLIGHT
BEGIN:STANDARD
TZOFFSETFROM:-0400
TZOFFSETTO:-0500
TZNAME:EST
DTSTART:20231105T060000
END:STANDARD
BEGIN:DAYLIGHT
TZOFFSETFROM:-0500
TZOFFSETTO:-0400
TZNAME:EDT
DTSTART:20240310T070000
END:DAYLIGHT
BEGIN:STANDARD
TZOFFSETFROM:-0400
TZOFFSETTO:-0500
TZNAME:EST
DTSTART:20241103T060000
END:STANDARD
BEGIN:DAYLIGHT
TZOFFSETFROM:-0500
TZOFFSETTO:-0400
TZNAME:EDT
DTSTART:20250309T070000
END:DAYLIGHT
BEGIN:STANDARD
TZOFFSETFROM:-0400
TZOFFSETTO:-0500
TZNAME:EST
DTSTART:20251102T060000
END:STANDARD
END:VTIMEZONE
BEGIN:VEVENT
DTSTART;TZID=America/New_York:20240915T090000
DTEND;TZID=America/New_York:20240915T130000
DTSTAMP:20260419T115122
CREATED:20240510T113543Z
LAST-MODIFIED:20240911T164847Z
UID:3898-1726390800-1726405200@samhin.org
SUMMARY:Health Fair and Mental Health Screenings - Durga Mandir\, Princeton\, NJ
DESCRIPTION:SAMHIN will collaborate with HCNJ to bring this health fair and mental health screenings to Durga Temple. \nSAMHIN team of mental health providers will provide free screenings for psychological and emotional problems and addiction. We will answer your questions about mental illness and provide any advice and referrals when needed. Free educational handouts will be available.  \nJoin us if . . . \n\nIf you smoke or chew tobacco and want to learn about how this is harmful and advice on quitting. Free testing will be provided.\nYou would like to speak confidentially to the SAMHIN team of mental health providers.\nYou have any questions about a loved one’s struggles with stress\, depression\, tension\, or alcohol or drug abuse.\nIf you have any questions or need advice about mental illness and substance use.\nIf you would like free mental health screening.\nIf you have questions about where to go for treatment.\n\nIn addition to mental health screenings\, there will be health screenings like blood sugar\,  EKG\, vision\, diet\, and nutrition. In addition\, a physical therapist\, internist\, and other specialists will be available for assessment and guidance.
URL:https://samhin.org/event/health-fair-and-mental-health-screenings-princeton-nj/
LOCATION:Durga Temple\, 4240 NJ-27\, Princeton\, New Jersey\, 08540\, United States
CATEGORIES:Health Fair,Mental Health Screening
END:VEVENT
BEGIN:VEVENT
DTSTART;TZID=America/New_York:20240922T110000
DTEND;TZID=America/New_York:20240922T150000
DTSTAMP:20260419T115122
CREATED:20240628T002330Z
LAST-MODIFIED:20240921T204055Z
UID:3995-1727002800-1727017200@samhin.org
SUMMARY:Mental Health Screenings - Port Reading\, New Jersey
DESCRIPTION:NOTE: This event has been cancelled and will be rescheduled. \nSAMHIN team of mental health providers will provide free screenings for psychological and emotional problems and substance use. We will answer your questions about mental illness and provide any advice and referrals when needed. We will respect your privacy during the mental health screenings. Free educational handouts will be available. \nJoin us if . . . \n\nIf you smoke or chew tobacco and want to learn about how this is harmful and advice on quitting. Free testing will be provided.\nYou would like to speak confidentially to the SAMHIN team of mental health providers.\nYou have any questions about a loved one’s struggles with stress\, depression\, tension\, or alcohol or drug use.\nIf you have any questions or need advice about mental illness and addiction.\nIf you would like free mental health screening.\nIf you have any questions about diagnosis and treatment.\nIf you have questions about where to go for treatment.
URL:https://samhin.org/event/mental-health-screenings-port-reading-new-jersey/
LOCATION:Gurudwara Dashmesh Darbar\, 800 Port Reading Ave\, Port Reading\, NJ\, United States
CATEGORIES:Mental Health Screening
END:VEVENT
END:VCALENDAR