BEGIN:VCALENDAR
VERSION:2.0
PRODID:-//SAMHIN - ECPv6.15.20//NONSGML v1.0//EN
CALSCALE:GREGORIAN
METHOD:PUBLISH
X-WR-CALNAME:SAMHIN
X-ORIGINAL-URL:https://samhin.org
X-WR-CALDESC:Events for SAMHIN
REFRESH-INTERVAL;VALUE=DURATION:PT1H
X-Robots-Tag:noindex
X-PUBLISHED-TTL:PT1H
BEGIN:VTIMEZONE
TZID:America/New_York
BEGIN:DAYLIGHT
TZOFFSETFROM:-0500
TZOFFSETTO:-0400
TZNAME:EDT
DTSTART:20230312T070000
END:DAYLIGHT
BEGIN:STANDARD
TZOFFSETFROM:-0400
TZOFFSETTO:-0500
TZNAME:EST
DTSTART:20231105T060000
END:STANDARD
BEGIN:DAYLIGHT
TZOFFSETFROM:-0500
TZOFFSETTO:-0400
TZNAME:EDT
DTSTART:20240310T070000
END:DAYLIGHT
BEGIN:STANDARD
TZOFFSETFROM:-0400
TZOFFSETTO:-0500
TZNAME:EST
DTSTART:20241103T060000
END:STANDARD
BEGIN:DAYLIGHT
TZOFFSETFROM:-0500
TZOFFSETTO:-0400
TZNAME:EDT
DTSTART:20250309T070000
END:DAYLIGHT
BEGIN:STANDARD
TZOFFSETFROM:-0400
TZOFFSETTO:-0500
TZNAME:EST
DTSTART:20251102T060000
END:STANDARD
END:VTIMEZONE
BEGIN:VEVENT
DTSTART;TZID=America/New_York:20240529T100000
DTEND;TZID=America/New_York:20240529T140000
DTSTAMP:20260419T184320
CREATED:20240510T003419Z
LAST-MODIFIED:20240510T170940Z
UID:3887-1716976800-1716991200@samhin.org
SUMMARY:Mental Health Awareness Fair - High Tech High School\, Secaucus\, New Jersey.
DESCRIPTION:SAMHIN will participate in a mental health fair organized by High Tech High School to raise awareness of mental health ands well-being among the high school students and community members. SAMHIN will make resources available to the students. \nThis event is exclusively for the Students and staff of High Tech High School.
URL:https://samhin.org/event/mental-health-awareness-fair-high-tech-high-school-secaucus-new-jersey/
LOCATION:High Tech High School\, 1 High Tech Way\, Secaucus\, NJ\, 07904\, United States
CATEGORIES:Mental Health Fair
END:VEVENT
END:VCALENDAR