BEGIN:VCALENDAR
VERSION:2.0
PRODID:-//SAMHIN - ECPv6.15.20//NONSGML v1.0//EN
CALSCALE:GREGORIAN
METHOD:PUBLISH
X-ORIGINAL-URL:https://samhin.org
X-WR-CALDESC:Events for SAMHIN
REFRESH-INTERVAL;VALUE=DURATION:PT1H
X-Robots-Tag:noindex
X-PUBLISHED-TTL:PT1H
BEGIN:VTIMEZONE
TZID:America/New_York
BEGIN:DAYLIGHT
TZOFFSETFROM:-0500
TZOFFSETTO:-0400
TZNAME:EDT
DTSTART:20240310T070000
END:DAYLIGHT
BEGIN:STANDARD
TZOFFSETFROM:-0400
TZOFFSETTO:-0500
TZNAME:EST
DTSTART:20241103T060000
END:STANDARD
BEGIN:DAYLIGHT
TZOFFSETFROM:-0500
TZOFFSETTO:-0400
TZNAME:EDT
DTSTART:20250309T070000
END:DAYLIGHT
BEGIN:STANDARD
TZOFFSETFROM:-0400
TZOFFSETTO:-0500
TZNAME:EST
DTSTART:20251102T060000
END:STANDARD
BEGIN:DAYLIGHT
TZOFFSETFROM:-0500
TZOFFSETTO:-0400
TZNAME:EDT
DTSTART:20260308T070000
END:DAYLIGHT
BEGIN:STANDARD
TZOFFSETFROM:-0400
TZOFFSETTO:-0500
TZNAME:EST
DTSTART:20261101T060000
END:STANDARD
END:VTIMEZONE
BEGIN:VEVENT
DTSTART;TZID=America/New_York:20250909T183000
DTEND;TZID=America/New_York:20250909T193000
DTSTAMP:20260424T094325
CREATED:20250812T193725Z
LAST-MODIFIED:20250901T190912Z
UID:4433-1757442600-1757446200@samhin.org
SUMMARY:From Awareness to Action: Preventing Suicide Together
DESCRIPTION:September is World Suicide Prevention Month. Join us at the local library for an engaging and culturally sensitive workshop dedicated to raising awareness and fostering hope within the South Asian community. We will dispel common myths about suicide\, share practical tips for prevention\, and highlight the perspectives of suicide loss survivors. The program will feature a short\, powerful video of lived experience\, offering a personal and heartfelt view into the journey of loss and resilience. Participants will also receive information on local and national resources\, including those tailored to South Asian individuals and families affected by suicide. \nRegistration is recommended\, but walk-ins are welcome.\nClick here to register.
URL:https://samhin.org/event/hope-and-healing-understanding-suicide-and-prevention/
LOCATION:East Brunswick Public Library\, 2 Jean Walling Civic Center Drive\, East Brunswick\, NJ\, 08816\, United States
CATEGORIES:Workshop
END:VEVENT
BEGIN:VEVENT
DTSTART;TZID=America/New_York:20250910T183000
DTEND;TZID=America/New_York:20250910T200000
DTSTAMP:20260424T094325
CREATED:20250812T194204Z
LAST-MODIFIED:20250901T185851Z
UID:4435-1757529000-1757534400@samhin.org
SUMMARY:Breaking the Silence: Myths\, Facts\, and Hope in Suicide Prevention
DESCRIPTION:On September 10\, World Suicide Prevention Day\, join us at the local library for an engaging workshop dedicated to raising awareness and fostering hope. We will dispel common myths about suicide\, share practical tips for prevention\, and highlight the perspectives of suicide loss survivors. The program will feature a short\, powerful video of lived experience\, offering a personal and heartfelt view into the journey of loss and resilience. Participants will also receive information on local and national resources to support individuals and families affected by suicide. \nRegistration Recommended.
URL:https://samhin.org/event/breaking-the-silence-myths-facts-and-hope-in-suicide-prevention/
LOCATION:Plainsboro Public Library\, 9 Van Doren\, Plainsboro\, 08536\, United States
CATEGORIES:Workshop
END:VEVENT
END:VCALENDAR