BEGIN:VCALENDAR
VERSION:2.0
PRODID:-//SAMHIN - ECPv6.15.20//NONSGML v1.0//EN
CALSCALE:GREGORIAN
METHOD:PUBLISH
X-WR-CALNAME:SAMHIN
X-ORIGINAL-URL:https://samhin.org
X-WR-CALDESC:Events for SAMHIN
REFRESH-INTERVAL;VALUE=DURATION:PT1H
X-Robots-Tag:noindex
X-PUBLISHED-TTL:PT1H
BEGIN:VTIMEZONE
TZID:America/New_York
BEGIN:DAYLIGHT
TZOFFSETFROM:-0500
TZOFFSETTO:-0400
TZNAME:EDT
DTSTART:20250309T070000
END:DAYLIGHT
BEGIN:STANDARD
TZOFFSETFROM:-0400
TZOFFSETTO:-0500
TZNAME:EST
DTSTART:20251102T060000
END:STANDARD
BEGIN:DAYLIGHT
TZOFFSETFROM:-0500
TZOFFSETTO:-0400
TZNAME:EDT
DTSTART:20260308T070000
END:DAYLIGHT
BEGIN:STANDARD
TZOFFSETFROM:-0400
TZOFFSETTO:-0500
TZNAME:EST
DTSTART:20261101T060000
END:STANDARD
BEGIN:DAYLIGHT
TZOFFSETFROM:-0500
TZOFFSETTO:-0400
TZNAME:EDT
DTSTART:20270314T070000
END:DAYLIGHT
BEGIN:STANDARD
TZOFFSETFROM:-0400
TZOFFSETTO:-0500
TZNAME:EST
DTSTART:20271107T060000
END:STANDARD
END:VTIMEZONE
BEGIN:VEVENT
DTSTART;TZID=America/New_York:20260307T140000
DTEND;TZID=America/New_York:20260307T153000
DTSTAMP:20260421T115800
CREATED:20251231T144458Z
LAST-MODIFIED:20260304T213010Z
UID:4713-1772892000-1772897400@samhin.org
SUMMARY:Myths\, Misconceptions and Mindsets of  Mental Health - North Edison Public Library
DESCRIPTION:SAMHIN will partner with North Edison Public Library to address Myths\, Misconceptions and Mindsets of  Mental Health in the South Asians. \nThis interactive workshop will help to dispel common myths\, mindsets\, and misconceptions about mental health that drive the decisions for seeking help. \nFor details click HERE.
URL:https://samhin.org/event/myths-misconceptions-and-mindsets-of-mental-health-north-edison-public-library/
LOCATION:North Edison Library (Temporary location)\, 1907 Oak Tree Road\, Suite 102\, Edison\, NJ\, 08820\, United States
CATEGORIES:Workshop
END:VEVENT
BEGIN:VEVENT
DTSTART;TZID=America/New_York:20260308T130000
DTEND;TZID=America/New_York:20260308T160000
DTSTAMP:20260421T115800
CREATED:20260108T154716Z
LAST-MODIFIED:20260125T060837Z
UID:4732-1772974800-1772985600@samhin.org
SUMMARY:Mental Health Awareness and Screenings during the Holi event\, East Brunswick\, New Jersey
DESCRIPTION:SAMHIN will partner with East Brunswick Public Library and will have a presence at the annual Holi celebration event at the East Brunswick Public Library\, East Brunswick\, New Jersey. Arti Katoch of East Brunswick Public Library is planning and coordinating this event. Our dedicated team of volunteers will be on-site to promote mental health and wellness\, increase mental health awareness and decrease stigma\, as well as to offer mental health screenings. We invite you to come and enjoy the Holi event and visit us with any questions regarding mental health and substance use. Free educational materials will be available for distribution!
URL:https://samhin.org/event/mental-health-awareness-and-screenings-during-the-holi-event-east-brunswick-new-jersey/
LOCATION:East Brunswick Public Library\, 2 Jean Walling Civic Center Drive\, East Brunswick\, NJ\, 08816\, United States
CATEGORIES:Mental Health Awareness,Mental Health Screening
END:VEVENT
BEGIN:VEVENT
DTSTART;TZID=America/New_York:20260315T110000
DTEND;TZID=America/New_York:20260315T140000
DTSTAMP:20260421T115800
CREATED:20260313T135725Z
LAST-MODIFIED:20260313T135939Z
UID:4832-1773572400-1773583200@samhin.org
SUMMARY:Health Fair and Mental Health Screenings - Morganville\, New Jersey
DESCRIPTION:South Asian Mental Health Initiative and Network – SAMHIN will collaborate with Guruvayoorappan Temple to provide mental health screenings at the health fair coordinated by Drs. Anupama Rao and Nandiwada. SAMHIN team of mental health providers will provide free screenings for psychological and emotional problems and addiction. We will answer your questions about mental illness and provide any advice and referrals when needed. We will respect your privacy during the mental health screenings. Free educational handouts will be available. \nJoin us if . . . \n\nIf you smoke or chew tobacco and want to learn about how this is harmful and advice on quitting. Free testing will be provided.\nYou would like to speak confidentially to the SAMHIN team of mental health providers.\nYou have any questions about a loved one’s struggles with stress\, depression\, tension\, or alcohol or drug use.\nIf you have any questions or need advice about mental illness and addiction.\nIf you would like free mental health screening.\nIf you have any questions about diagnosis and treatment.\nIf you have questions about where to go for treatment.\n\nIn addition to mental health screenings\, there will be physical health screenings including blood sugar\, blood pressure\, BMI\, Memory screening by volunteer physicians and Rutgers students. Exercise and physical theapy consultations will be provided by Shailja Kesara\, MSPT
URL:https://samhin.org/event/health-fair-and-mental-health-screenings-morganville-new-jersey-5/
LOCATION:Guruvayoorappan Temple\, 31 Wooleytown Road\, Morganville\, NJ\, United States
CATEGORIES:Health Fair,Mental Health Screening
END:VEVENT
BEGIN:VEVENT
DTSTART;TZID=America/New_York:20260321T120000
DTEND;TZID=America/New_York:20260321T150000
DTSTAMP:20260421T115800
CREATED:20260315T231047Z
LAST-MODIFIED:20260317T120215Z
UID:4837-1774094400-1774105200@samhin.org
SUMMARY:Medical Camp and Mental Health Screenings - Edison Guruji Mandir\, Edison\, NJ
DESCRIPTION:South Asian Mental Health Iniative and Network (SAMHN) will bring mental health awareness and provide mental health screenings at the Medical Camp at Guruji Edison Mandir.In addition there will be many other physicians from different specialities at hand to provide their services. \nThis event is for the Edison Guruji Mandir Sangat Parivar. \nSAMHIN team of mental health providers will provide free screenings for psychological and emotional problems and addiction. We will answer your questions about mental illness and provide any advice and referrals when needed. We will respect your privacy during the mental health screenings. Free educational handouts will be available. \nJoin us if . . . \nIf you smoke or chew tobacco and want to learn about how this is harmful and advice on quitting. Free testing will be provided. \nYou would like to speak confidentially to the SAMHIN team of mental health providers. \nYou have any questions about a loved one’s struggles with stress\, depression\, tension\, or alcohol or drug use. \nIf you have any questions or need advice about mental illness and addiction. \nIf you would like free mental health screening. \nIf you have any questions about diagnosis and treatment. \nIf you have questions about where to go for treatment. \n \nIn addition to mental screenings there will be other specialties available including Primary care\, cardiology\, endocrinology\, pulmonary and sleep medicine etc. See flyer above for all the details.
URL:https://samhin.org/event/medical-camp-and-mental-health-screenings-edison-guruji-mandir-edison-nj/
LOCATION:Edison Guruji Mandir\, 1710 Oak Tree Road\, Edison\, NJ\, 08820\, United States
CATEGORIES:Health Fair,Mental Health Awareness
END:VEVENT
END:VCALENDAR