BEGIN:VCALENDAR
VERSION:2.0
PRODID:-//SAMHIN - ECPv6.15.20//NONSGML v1.0//EN
CALSCALE:GREGORIAN
METHOD:PUBLISH
X-ORIGINAL-URL:https://samhin.org
X-WR-CALDESC:Events for SAMHIN
REFRESH-INTERVAL;VALUE=DURATION:PT1H
X-Robots-Tag:noindex
X-PUBLISHED-TTL:PT1H
BEGIN:VTIMEZONE
TZID:America/New_York
BEGIN:DAYLIGHT
TZOFFSETFROM:-0500
TZOFFSETTO:-0400
TZNAME:EDT
DTSTART:20250309T070000
END:DAYLIGHT
BEGIN:STANDARD
TZOFFSETFROM:-0400
TZOFFSETTO:-0500
TZNAME:EST
DTSTART:20251102T060000
END:STANDARD
BEGIN:DAYLIGHT
TZOFFSETFROM:-0500
TZOFFSETTO:-0400
TZNAME:EDT
DTSTART:20260308T070000
END:DAYLIGHT
BEGIN:STANDARD
TZOFFSETFROM:-0400
TZOFFSETTO:-0500
TZNAME:EST
DTSTART:20261101T060000
END:STANDARD
BEGIN:DAYLIGHT
TZOFFSETFROM:-0500
TZOFFSETTO:-0400
TZNAME:EDT
DTSTART:20270314T070000
END:DAYLIGHT
BEGIN:STANDARD
TZOFFSETFROM:-0400
TZOFFSETTO:-0500
TZNAME:EST
DTSTART:20271107T060000
END:STANDARD
END:VTIMEZONE
BEGIN:VEVENT
DTSTART;TZID=America/New_York:20260129T180000
DTEND;TZID=America/New_York:20260129T190000
DTSTAMP:20260421T155239
CREATED:20260108T155904Z
LAST-MODIFIED:20260116T031221Z
UID:4735-1769709600-1769713200@samhin.org
SUMMARY:Mental Health in the South Asians - Complimentary Strategies to Support Mental Well-Being
DESCRIPTION:Shruthi Thiyagarajan\, Drashya Shah\, Shree Gogineni and Riddhi Jadhav\, medical students at Robert Wood Johnson Medicali School\, will discuss various complementary intervention for mental well-being and will dispell some of the myths associated with these interventions. The workshop will cover topics on Breathing exercises\, various forms of pranayama\, yoga and diet. Presenters will also talk about the value of music\, dance\, and chanting in achieving mental well-being and calmness.
URL:https://samhin.org/event/mental-health-in-the-south-asians-complimentary-strategies-to-support-mental-well-being/
LOCATION:East Brunswick Public Library\, 2 Jean Walling Civic Center Drive\, East Brunswick\, NJ\, 08816\, United States
CATEGORIES:Workshop
END:VEVENT
BEGIN:VEVENT
DTSTART;TZID=America/New_York:20260131T150000
DTEND;TZID=America/New_York:20260131T210000
DTSTAMP:20260421T155239
CREATED:20260115T213550Z
LAST-MODIFIED:20260115T213550Z
UID:4742-1769871600-1769893200@samhin.org
SUMMARY:Mental Health Awareness at the Annual Cultural Show - Trenton\, New Jersey
DESCRIPTION:South Asian Mental Health Initiative and Netowrk – SAMHIN will partner with India Foundation of Metropolitan Princeton (IFMP) to bring mental awawreness to this popular wonderful annual cultural event. There will be music and dances. Delicious food by Jhopri will be served. Come and visit us at the SAMHIN table if you have any questions about mental health\, mental wellness and substance use and learn about our programs for the South Asian community. \nIFMP 2026 Jan
URL:https://samhin.org/event/mental-health-awareness-at-the-annual-cultural-show-trenton-new-jersey/
LOCATION:Patriots Theater at the War Memorial\, 1 Memorial Dr\, Trenton\, NJ\, 08608\, United States
CATEGORIES:Community Cultural Event,Mental Health Awareness
END:VEVENT
END:VCALENDAR