BEGIN:VCALENDAR
VERSION:2.0
PRODID:-//SAMHIN - ECPv6.15.20//NONSGML v1.0//EN
CALSCALE:GREGORIAN
METHOD:PUBLISH
X-WR-CALNAME:SAMHIN
X-ORIGINAL-URL:https://samhin.org
X-WR-CALDESC:Events for SAMHIN
REFRESH-INTERVAL;VALUE=DURATION:PT1H
X-Robots-Tag:noindex
X-PUBLISHED-TTL:PT1H
BEGIN:VTIMEZONE
TZID:America/New_York
BEGIN:DAYLIGHT
TZOFFSETFROM:-0500
TZOFFSETTO:-0400
TZNAME:EDT
DTSTART:20240310T070000
END:DAYLIGHT
BEGIN:STANDARD
TZOFFSETFROM:-0400
TZOFFSETTO:-0500
TZNAME:EST
DTSTART:20241103T060000
END:STANDARD
BEGIN:DAYLIGHT
TZOFFSETFROM:-0500
TZOFFSETTO:-0400
TZNAME:EDT
DTSTART:20250309T070000
END:DAYLIGHT
BEGIN:STANDARD
TZOFFSETFROM:-0400
TZOFFSETTO:-0500
TZNAME:EST
DTSTART:20251102T060000
END:STANDARD
BEGIN:DAYLIGHT
TZOFFSETFROM:-0500
TZOFFSETTO:-0400
TZNAME:EDT
DTSTART:20260308T070000
END:DAYLIGHT
BEGIN:STANDARD
TZOFFSETFROM:-0400
TZOFFSETTO:-0500
TZNAME:EST
DTSTART:20261101T060000
END:STANDARD
END:VTIMEZONE
BEGIN:VEVENT
DTSTART;TZID=America/New_York:20250713T110000
DTEND;TZID=America/New_York:20250713T140000
DTSTAMP:20260422T025342
CREATED:20250604T203340Z
LAST-MODIFIED:20250708T151311Z
UID:4305-1752404400-1752415200@samhin.org
SUMMARY:Mental Health Screenings\, Guru Nanak Darbar\, Hicksville\, Long Island\, New York
DESCRIPTION:SAMHIN has collaborated with Gurudwara Guru Nanak Darbar of Long Island to organize this Mental Health Screening Event. \nJoin us if . . . \nYou would like to speak confidentially to the SAMHIN team of mental health providers.\nYou have questions about loved one’s struggles with stress\, depression\, tension\, or alcohol or drug abuse.\nYou have questions or need advice about any mental illness and addiction.\nYou would like a free mental health screening.\nYou have questions about diagnosis and treatment.\nYou have questions about where to go for treatment. \n \n \n 
URL:https://samhin.org/event/mental-health-screenings-guru-nanak-darbar-hicksville-long-island-new-york/
LOCATION:Guru Nanak Darbar of Long Island\, 11 S Broadway\, Hicksville\, NY\, 11801\, United States
CATEGORIES:Mental Health Screening
END:VEVENT
BEGIN:VEVENT
DTSTART;TZID=America/New_York:20250717T180000
DTEND;TZID=America/New_York:20250717T190000
DTSTAMP:20260422T025342
CREATED:20250704T000921Z
LAST-MODIFIED:20250708T202717Z
UID:4359-1752775200-1752778800@samhin.org
SUMMARY:Ask the Doctor: Mythbusting Mental Health - East Brunswick Public Library\, East Brunswick\, New Jersey
DESCRIPTION:SAMHIN will partner with East Brunswick Public Library to bring this program to address the myths and misconceptions of mental in the South Asian community. Dr. Vasudev Makhija and Minoo Christian will make brief presentation and give the attendees opportunity to ask questions. This is a very timely program with July being Minority Mental Health Awareness Month. \nREAD MORE \nREGISTRATION RECOMMENDED although not required for this in-person event.
URL:https://samhin.org/event/myth-busting-mental-health-ask-the-doctor-east-brunswick-public-library-east-brunswick-new-jersey/
LOCATION:East Brunswick Public Library\, 2 Jean Walling Civic Center Drive\, East Brunswick\, NJ\, 08816\, United States
CATEGORIES:Symposium
END:VEVENT
BEGIN:VEVENT
DTSTART;TZID=America/New_York:20250727T090000
DTEND;TZID=America/New_York:20250727T130000
DTSTAMP:20260422T025342
CREATED:20250327T012309Z
LAST-MODIFIED:20250327T012309Z
UID:4218-1753606800-1753621200@samhin.org
SUMMARY:Health Fair and Mental Health Screening - Bridgewater\, NJ
DESCRIPTION:SAMHIN will collaborate with HCNJ to provide mental health screenings and broad range of medical screenings. \nSAMHIN team of mental health providers will provide free screenings for psychological and emotional problems and addiction. We will answer your questions about mental illness and provide any advice and referrals when needed. We will respect your privacy during the mental health screenings. Free educational handouts will be available. \nJoin us if . . . \n\nIf you smoke or chew tobacco and want to learn about how this is harmful and advice on quitting. Free testing will be provided.\nYou would like to speak confidentially to the SAMHIN team of mental health providers.\nYou have any questions about a loved one’s struggles with stress\, depression\, tension\, or alcohol or drug use.\nIf you have any questions or need advice about mental illness and addiction.\nIf you would like free mental health screening.\nIf you have any questions about diagnosis and treatment.\nIf you have questions about where to go for treatment.\n\nOther medical health screenings will include blood sugar\, vision\, diet\, and nutrition. Physical therapist will be available to answer questions and address any concerns.
URL:https://samhin.org/event/health-fair-and-mental-health-screening-bridgewater-nj/
LOCATION:Sri Venkateshwara Temple (Balaji Mandir)\, 1 Balaji Temple Drive\, Bridgewater\, NJ\, 08807\, United States
END:VEVENT
BEGIN:VEVENT
DTSTART;TZID=America/New_York:20250730T183000
DTEND;TZID=America/New_York:20250730T200000
DTSTAMP:20260422T025342
CREATED:20250704T002329Z
LAST-MODIFIED:20250718T174407Z
UID:4363-1753900200-1753905600@samhin.org
SUMMARY:South Asian Mental Health Myths and Misconceptions - Plainsboro Public Library
DESCRIPTION:July is Minority Mental Health Month. SAMHIN has partnered with Plainsboro Public Library to address issues of  many myths and misconceptions of mental health within the South Asian community. Presentations by Dr. Vasudev Makhija and Minoo Christian\, MSW will be followed by interactive part of the program. Attendees will be able to ask questions about mental illness and substance use and available treatments. \nClick HERE for details. \nREGISTRATION recommended.
URL:https://samhin.org/event/south-asian-mental-health-myths-and-misconceptions-plainsboro-public-library/
LOCATION:Plainsboro Public Library\, 9 Van Doren\, Plainsboro\, 08536\, United States
CATEGORIES:Symposium
END:VEVENT
END:VCALENDAR