BEGIN:VCALENDAR
VERSION:2.0
PRODID:-//SAMHIN - ECPv6.15.20//NONSGML v1.0//EN
CALSCALE:GREGORIAN
METHOD:PUBLISH
X-WR-CALNAME:SAMHIN
X-ORIGINAL-URL:https://samhin.org
X-WR-CALDESC:Events for SAMHIN
REFRESH-INTERVAL;VALUE=DURATION:PT1H
X-Robots-Tag:noindex
X-PUBLISHED-TTL:PT1H
BEGIN:VTIMEZONE
TZID:America/New_York
BEGIN:DAYLIGHT
TZOFFSETFROM:-0500
TZOFFSETTO:-0400
TZNAME:EDT
DTSTART:20250309T070000
END:DAYLIGHT
BEGIN:STANDARD
TZOFFSETFROM:-0400
TZOFFSETTO:-0500
TZNAME:EST
DTSTART:20251102T060000
END:STANDARD
BEGIN:DAYLIGHT
TZOFFSETFROM:-0500
TZOFFSETTO:-0400
TZNAME:EDT
DTSTART:20260308T070000
END:DAYLIGHT
BEGIN:STANDARD
TZOFFSETFROM:-0400
TZOFFSETTO:-0500
TZNAME:EST
DTSTART:20261101T060000
END:STANDARD
BEGIN:DAYLIGHT
TZOFFSETFROM:-0500
TZOFFSETTO:-0400
TZNAME:EDT
DTSTART:20270314T070000
END:DAYLIGHT
BEGIN:STANDARD
TZOFFSETFROM:-0400
TZOFFSETTO:-0500
TZNAME:EST
DTSTART:20271107T060000
END:STANDARD
END:VTIMEZONE
BEGIN:VEVENT
DTSTART;TZID=America/New_York:20260517T110000
DTEND;TZID=America/New_York:20260517T140000
DTSTAMP:20260421T155644
CREATED:20251231T143653Z
LAST-MODIFIED:20260421T145342Z
UID:4716-1779015600-1779026400@samhin.org
SUMMARY:Bridging the Cultural Gap in South Asian Families
DESCRIPTION:In this workshop\, Dr. Sudha Wadhwani will provide an overview of the challenges among South Asian families in balancing traditional expectations with the complexities of raising children who are exposed to a broad range of societal pressures. As parents\, we want our kids to thrive and succeed in all aspects of their lives… personally\, socially\, academically\, and professionally. Dr. Wadhwani will share her experience in working with teens\, young adults and college students\, in order to assist parents in understanding the context of the current pressures our young people face and provide tools for bridging communication and creating a bi-cultural family system. She will provide strategies for raising our next generation to become confident\, thriving adults\, who are healthy and successful. Dr. Wadhwani will address topics of mental health stigma\, managing the intergenerational cultural norms\, and shifting to a strength-based approach to parenting. She will provide strategies for opening communication to meet your teen and young adult children where they are and creating a healthy relationship in which your teens and young adult children will feel more able to come to you when needed.
URL:https://samhin.org/event/womens-mental-health-secaucus-new-jersey/
LOCATION:Shree Swaminarayan Hindu Temple\, 1699 Route 46\, Parsipanny\, NJ\, 07054\, United States
CATEGORIES:Workshop
END:VEVENT
BEGIN:VEVENT
DTSTART;TZID=America/New_York:20260519T100000
DTEND;TZID=America/New_York:20260519T140000
DTSTAMP:20260421T155644
CREATED:20260316T164259Z
LAST-MODIFIED:20260316T164259Z
UID:4842-1779184800-1779199200@samhin.org
SUMMARY:Mental Health & Wellness Fair - High Tech High School\, Secaucus\, New Jersey
DESCRIPTION:The South Asian Mental Health Initiative and Network (SAMHIN) will participate in a Mental Health Fair organized by High Tech High School to promote awareness of mental health and well-being among high school students and community members. \nAt the SAMHIN table\, students will have access to helpful mental health resources and information designed to encourage open conversations about emotional well-being. Attendees will also have the opportunity to take part in interactive quizzes\, learn practical tips for maintaining mental wellness\, and win small prizes. \nThe event will take place in a lively and welcoming atmosphere\, bringing together multiple organizations committed to promoting health and wellness. Through engaging activities and educational resources\, the fair aims to empower young people with knowledge\, reduce stigma around mental health\, and foster a supportive community. \nNote: This event is exclusively for the Students and staff of High Tech High School.
URL:https://samhin.org/event/mental-health-wellness-fair-high-tech-high-school-secaucus-new-jersey/
LOCATION:High Tech High School\, 1 High Tech Way\, Secaucus\, NJ\, 07904\, United States
CATEGORIES:Mental Health Fair
END:VEVENT
BEGIN:VEVENT
DTSTART;TZID=America/New_York:20260530T100000
DTEND;TZID=America/New_York:20260530T130000
DTSTAMP:20260421T155644
CREATED:20260323T220505Z
LAST-MODIFIED:20260413T152358Z
UID:4865-1780135200-1780146000@samhin.org
SUMMARY:The Unspoken - Art\, Stories and Conversations about Mental Health - East Brunwick\, New Jersey
DESCRIPTION:South Asian Mental Health Initiative and Network (SAMHIN) is partnering with the Indian Cultural Society of East Brunswick and the East Brunswick Public Library to present an innovative program aimed at increasing awareness and fostering acceptance of mental health within the South Asian community. \nThe program will feature Dance of Depression\, a powerful movement-based performance by Meghna Sharma and Latika Chani that explores themes of silence\, stigma\, and suicide. This will be followed by Soliloquies of the Mind\, a series of thought-provoking theatre monologues on mental health\, compiled and directed by Anand Rao. \nA panel discussion with mental health advocates and mental health experts will provide deeper insight\, and the event will conclude with interactive reflection activities designed to engage and inspire the audience.
URL:https://samhin.org/event/the-unspoken-art-stories-and-conversations-about-mental-health-east-brunwick-new-jersey/
LOCATION:East Brunswick Public Library\, 2 Jean Walling Civic Center Drive\, East Brunswick\, NJ\, 08816\, United States
CATEGORIES:Workshop
END:VEVENT
BEGIN:VEVENT
DTSTART;TZID=America/New_York:20260531T110000
DTEND;TZID=America/New_York:20260531T130000
DTSTAMP:20260421T155644
CREATED:20260329T011144Z
LAST-MODIFIED:20260329T011144Z
UID:4887-1780225200-1780232400@samhin.org
SUMMARY:Health Fair and Mental Health Screening\, Guruvayoorappan Temple\, Morganville\, NJ
DESCRIPTION:South Asian Mental Health Initiative and Network (SAMHIN) will partner with Guruvayoorappan Temple and Medical Clinic Team to bring mental health awareness and provide free screenings for psychological and emotional problems and addiction. We will answer your questions about mental illness and provide any advice and referrals when needed. We will respect your privacy during the mental health screenings. Free educational handouts will be available. \nJoin us if . . . \nIf you smoke or chew tobacco and want to learn about how this is harmful and advice on quitting. Free testing will be provided. \nYou would like to speak confidentially to the SAMHIN team of mental health providers. \nYou have any questions about a loved one’s struggles with stress\, depression\, tension\, or alcohol or drug use. \nIf you have any questions or need advice about mental illness and addiction. \nIf you would like free mental health screening. \nIf you have any questions about diagnosis and treatment. \nIf you have questions about where to go for treatment. \nIn addition to mental health screenings\, there will be health screenings like blood sugar\, vision\, physical therapy\, exercise\, diet\, and nutrition. 
URL:https://samhin.org/event/health-fair-and-mental-health-screening-guruvayoorappan-temple-morganville-nj/
LOCATION:Guruvayoorappan Temple\, 31 Wooleytown Road\, Morganville\, NJ\, United States
CATEGORIES:Health Fair,Mental Health Screening
END:VEVENT
BEGIN:VEVENT
DTSTART;TZID=America/New_York:20260719T083000
DTEND;TZID=America/New_York:20260719T130000
DTSTAMP:20260421T155644
CREATED:20260416T163928Z
LAST-MODIFIED:20260416T163928Z
UID:4954-1784449800-1784466000@samhin.org
SUMMARY:Health Fair and Mental Health Screenings - Bridgewater New Jersey
DESCRIPTION:South Asian Mental Health Initiative and Network (SAMHIN) will collaborate with HCNJ and Sri Venkateshwara Temple (Balaji Mandir) to provide mental health screenings and broad range of medical screenings. \nSAMHIN team of mental health providers will provide free screenings for psychological and emotional problems and addiction. We will answer your questions about mental illness and provide any advice and referrals when needed. We will respect your privacy during the mental health screenings. Free educational handouts will be available. \nJoin us if . . . \n\nIf you smoke or chew tobacco and want to learn about how this is harmful and advice on quitting. Free testing will be provided.\nYou would like to speak confidentially to the SAMHIN team of mental health providers.\nYou have any questions about a loved one’s struggles with stress\, depression\, tension\, or alcohol or drug use.\nIf you have any questions or need advice about mental illness and addiction.\nIf you would like free mental health screening.\nIf you have any questions about diagnosis and treatment.\nIf you have questions about where to go for treatment.\n\n\nOther medical health screenings will include blood sugar\, blood pressure\, EKG\, pharmacy counseling\, vision\, diet\, and nutrition. Physical therapist will be available to answer questions and address any concerns. \nPREREGISTRATION BEFORE JULY 15. This will help taking advantage of all the services.
URL:https://samhin.org/event/health-fair-and-mental-health-screenings-bridgewater-new-jersey/
LOCATION:Sri Venkateshwara Temple (Balaji Mandir)\, 1 Balaji Temple Drive\, Bridgewater\, NJ\, 08807\, United States
CATEGORIES:Health Fair,Mental Health Awareness
END:VEVENT
BEGIN:VEVENT
DTSTART;TZID=America/New_York:20260801T093000
DTEND;TZID=America/New_York:20260801T140000
DTSTAMP:20260421T155644
CREATED:20260331T142639Z
LAST-MODIFIED:20260331T142639Z
UID:4902-1785576600-1785592800@samhin.org
SUMMARY:Health Fair and Mental Health Screenings - Hindu Temple\, Flushing\, New York
DESCRIPTION:The South Asian Mental Health Initiative and Network (SAMHIN) is proud to once again collaborate with the Hindu Temple Society of America to bring mental health awareness and screenings to their annual health fair. The event will take place at the iconic Hindu Temple\, also called Sri Maha Vallabha Ganapati Devasthanam or Ganesh Temple in the heart of Flushing\, New York. \nSAMHIN’s team of psychiatrists\, psychologists\, mental health counselors\, and social workers will offer confidential mental health screenings and be available to answer questions related to mental health\, as well as tobacco\, alcohol\, and substance use. Attendees will receive personalized guidance and referrals as needed\, with a strong commitment to privacy throughout the screening process. Free educational materials will also be provided. In addition\, Narcan and information on its use will be available to help prevent opioid overdose deaths. \nIn addition to mental health services\, the health fair will offer a range of medical screenings\, including EKGs\, general checkups\, blood pressure and BMI assessments\, and blood tests such as cholesterol screening. \nJoin us if . . . \n\nIf you smoke or chew tobacco and want to learn about how this is harmful and advice on quitting. Free testing will be provided.\nYou would like to speak confidentially to the SAMHIN team of mental health providers.\nYou have any questions about a loved one’s struggles with stress\, depression\, tension\, or alcohol or drug use.\nIf you have any questions or need advice about mental illness and addiction.\nIf you would like free mental health screening.\nIf you have any questions about diagnosis and treatment.\nIf you have questions about where to go for treatment.\n\nNOTE: The event will take place in the Kalyana Mandapam.
URL:https://samhin.org/event/health-fair-and-mental-health-screenings-hindu-temple-flushing-new-york/
LOCATION:HIndu Temple\, 45-57 Bowne St\, Flushing\, NY\, 11355\, United States
END:VEVENT
BEGIN:VEVENT
DTSTART;TZID=America/New_York:20260913T083000
DTEND;TZID=America/New_York:20260913T130000
DTSTAMP:20260421T155644
CREATED:20260327T165220Z
LAST-MODIFIED:20260327T165926Z
UID:4878-1789288200-1789304400@samhin.org
SUMMARY:Health Fair and Mental Health Screenings - Princeton\, New Jersey
DESCRIPTION:South Asian Mental Health Initiative and Network (SAMHIN) will collaborate with HCNJ and Durga Mandir to provide mental health screenings and broad range of medical screenings at Durga Mandir in Princeton\, NJ. \nSAMHIN team of mental health providers will provide free screenings for psychological and emotional problems and addiction. We will answer your questions about mental illness and provide any advice and referrals when needed. We will respect your privacy during the mental health screenings. Free educational handouts will be available. \nJoin us if . . . \n\nIf you smoke or chew tobacco and want to learn about how this is harmful and advice on quitting. Free testing will be provided.\nYou would like to speak confidentially to the SAMHIN team of mental health providers.\nYou have any questions about a loved one’s struggles with stress\, depression\, tension\, or alcohol or drug use.\nIf you have any questions or need advice about mental illness and addiction.\nIf you would like free mental health screening.\nIf you have any questions about diagnosis and treatment.\nIf you have questions about where to go for treatment.\n\nOther medical health screenings will include blood sugar\, vision\, diet\, and nutrition. Physical therapist will be available to answer questions and address any concerns.
URL:https://samhin.org/event/health-fair-and-mental-health-screenings-princeton-new-jersey/
LOCATION:Durga Temple\, 4240 NJ-27\, Princeton\, New Jersey\, 08540\, United States
CATEGORIES:Health Fair,Mental Health Screening
END:VEVENT
BEGIN:VEVENT
DTSTART;TZID=America/New_York:20261115T083000
DTEND;TZID=America/New_York:20261115T130000
DTSTAMP:20260421T155644
CREATED:20260327T165637Z
LAST-MODIFIED:20260403T024832Z
UID:4880-1794731400-1794747600@samhin.org
SUMMARY:Health Fair and Mental Health Screenings - Secaucus\, New Jersey
DESCRIPTION:South Asian Mental Health Initiative and Network (SAMHIN) will collaborate with HCNJ and Swaminarayan Temple\, Secaucus\, NJ\, to provide mental health screenings and broad range of medical screenings. \nThe SAMHIN team of mental health providers will provide free screenings for psychological and emotional problems and addiction. We will answer your questions about mental illness and provide any advice and referrals when needed. We will respect your privacy during the mental health screenings. Free educational handouts will be available. \nJoin us if . . . \n\nIf you smoke or chew tobacco and want to learn about how this is harmful and advice on quitting. Free testing will be provided.\nYou would like to speak confidentially to the SAMHIN team of mental health providers.\nYou have any questions about a loved one’s struggles with stress\, depression\, tension\, or alcohol or drug use.\nIf you have any questions or need advice about mental illness and addiction.\nIf you would like free mental health screening.\nIf you have any questions about diagnosis and treatment.\nIf you have questions about where to go for treatment.\n\nOther medical health screenings will include blood sugar\, vision\, diet\, and nutrition. Physical therapist will be available to answer questions and address any concerns.
URL:https://samhin.org/event/health-fair-and-mental-health-screenings-secaucus-new-jersey-2/
LOCATION:Shree Swaminarayan Temple Secaucus\, 200 Penhorn Avenue\, Secaucus\, NJ\, 07094\, United States
END:VEVENT
END:VCALENDAR