BEGIN:VCALENDAR
VERSION:2.0
PRODID:-//SAMHIN - ECPv6.15.20//NONSGML v1.0//EN
CALSCALE:GREGORIAN
METHOD:PUBLISH
X-WR-CALNAME:SAMHIN
X-ORIGINAL-URL:https://samhin.org
X-WR-CALDESC:Events for SAMHIN
REFRESH-INTERVAL;VALUE=DURATION:PT1H
X-Robots-Tag:noindex
X-PUBLISHED-TTL:PT1H
BEGIN:VTIMEZONE
TZID:America/New_York
BEGIN:DAYLIGHT
TZOFFSETFROM:-0500
TZOFFSETTO:-0400
TZNAME:EDT
DTSTART:20150308T070000
END:DAYLIGHT
BEGIN:STANDARD
TZOFFSETFROM:-0400
TZOFFSETTO:-0500
TZNAME:EST
DTSTART:20151101T060000
END:STANDARD
BEGIN:DAYLIGHT
TZOFFSETFROM:-0500
TZOFFSETTO:-0400
TZNAME:EDT
DTSTART:20160313T070000
END:DAYLIGHT
BEGIN:STANDARD
TZOFFSETFROM:-0400
TZOFFSETTO:-0500
TZNAME:EST
DTSTART:20161106T060000
END:STANDARD
BEGIN:DAYLIGHT
TZOFFSETFROM:-0500
TZOFFSETTO:-0400
TZNAME:EDT
DTSTART:20170312T070000
END:DAYLIGHT
BEGIN:STANDARD
TZOFFSETFROM:-0400
TZOFFSETTO:-0500
TZNAME:EST
DTSTART:20171105T060000
END:STANDARD
BEGIN:DAYLIGHT
TZOFFSETFROM:-0500
TZOFFSETTO:-0400
TZNAME:EDT
DTSTART:20180311T070000
END:DAYLIGHT
BEGIN:STANDARD
TZOFFSETFROM:-0400
TZOFFSETTO:-0500
TZNAME:EST
DTSTART:20181104T060000
END:STANDARD
END:VTIMEZONE
BEGIN:VEVENT
DTSTART;TZID=America/New_York:20170216T200000
DTEND;TZID=America/New_York:20170216T210000
DTSTAMP:20260423T003205
CREATED:20160821T233136Z
LAST-MODIFIED:20170121T051903Z
UID:901-1487275200-1487278800@samhin.org
SUMMARY:Alcoholics Anonymous (AA) Meeting
DESCRIPTION:  \nMany sufferers of alcohol abuse find it very helpful to attend local Alcoholics Anonymous (AA) meetings. South Asians often avoid attending AA meetings because they feel they do not fit in culturally. To address this cultural need\, SAMHIN created South Asian AA meetings. No appointment is necessary – any individual with an alcohol problem and a desire to quit is welcome.
URL:https://samhin.org/event/alcoholics-anonymous-meeting-iselin-nj-2-16-17/
LOCATION:First Presbyterian Church\, 1295 Oak Tree Road (enter on Middlesex Ave)\, Iselin\, NJ\, 08830\, United States
CATEGORIES:Support Group
ORGANIZER;CN="SAMHIN":MAILTO:info@samhin.org
END:VEVENT
BEGIN:VEVENT
DTSTART;TZID=America/New_York:20170209T080000
DTEND;TZID=America/New_York:20170209T210000
DTSTAMP:20260423T003205
CREATED:20170120T042945Z
LAST-MODIFIED:20170120T042945Z
UID:1129-1486627200-1486674000@samhin.org
SUMMARY:Alcoholics Anonymous Meeting
DESCRIPTION:  \nMany sufferers of alcohol abuse find it very helpful to attend local Alcoholics Anonymous (AA) meetings. South Asians often avoid attending AA meetings because they feel they do not fit in culturally. To address this cultural need\, SAMHIN created South Asian AA meetings. No appointment is necessary – any individual with an alcohol problem and a desire to quit is welcome.
URL:https://samhin.org/event/alcoholics-anonymous-meeting-iselin-nj-2-9-17/
LOCATION:First Presbyterian Church\, 1295 Oak Tree Road (enter on Middlesex Ave)\, Iselin\, NJ\, 08830\, United States
CATEGORIES:Support Group
END:VEVENT
BEGIN:VEVENT
DTSTART;TZID=America/New_York:20170202T200000
DTEND;TZID=America/New_York:20170202T210000
DTSTAMP:20260423T003205
CREATED:20160821T233446Z
LAST-MODIFIED:20170121T052016Z
UID:902-1486065600-1486069200@samhin.org
SUMMARY:Alcoholics Anonymous (AA) Meeting
DESCRIPTION:  \nMany sufferers of alcohol abuse find it very helpful to attend local Alcoholics Anonymous (AA) meetings. South Asians often avoid attending AA meetings because they feel they do not fit in culturally. To address this cultural need\, SAMHIN created South Asian AA meetings. No appointment is necessary – any individual with an alcohol problem and a desire to quit is welcome.
URL:https://samhin.org/event/alcoholics-anonymous-meeting-iselin-nj-2-2-17/
LOCATION:First Presbyterian Church\, 1295 Oak Tree Road (enter on Middlesex Ave)\, Iselin\, NJ\, 08830\, United States
CATEGORIES:Support Group
ORGANIZER;CN="SAMHIN":MAILTO:info@samhin.org
END:VEVENT
BEGIN:VEVENT
DTSTART;TZID=America/New_York:20170126T200000
DTEND;TZID=America/New_York:20170126T210000
DTSTAMP:20260423T003205
CREATED:20160821T233738Z
LAST-MODIFIED:20170121T052056Z
UID:903-1485460800-1485464400@samhin.org
SUMMARY:Alcoholics Anonymous (AA) Meeting
DESCRIPTION:  \nMany sufferers of alcohol abuse find it very helpful to attend local Alcoholics Anonymous (AA) meetings. South Asians often avoid attending AA meetings because they feel they do not fit in culturally. To address this cultural need\, SAMHIN created South Asian AA meetings. No appointment is necessary – any individual with an alcohol problem and a desire to quit is welcome.
URL:https://samhin.org/event/alcoholics-anonymous-meeting-iselin-nj-1-26-17/
LOCATION:First Presbyterian Church\, 1295 Oak Tree Road (enter on Middlesex Ave)\, Iselin\, NJ\, 08830\, United States
CATEGORIES:Support Group
ORGANIZER;CN="SAMHIN":MAILTO:info@samhin.org
END:VEVENT
BEGIN:VEVENT
DTSTART;TZID=America/New_York:20170119T200000
DTEND;TZID=America/New_York:20170119T210000
DTSTAMP:20260423T003205
CREATED:20160821T233947Z
LAST-MODIFIED:20170121T052135Z
UID:904-1484856000-1484859600@samhin.org
SUMMARY:Alcoholics Anonymous (AA) Meeting
DESCRIPTION:  \nMany sufferers of alcohol abuse find it very helpful to attend local Alcoholics Anonymous (AA) meetings. South Asians often avoid attending AA meetings because they feel they do not fit in culturally. To address this cultural need\, SAMHIN created South Asian AA meetings. No appointment is necessary – any individual with an alcohol problem and a desire to quit is welcome.
URL:https://samhin.org/event/alcoholics-anonymous-meeting-iselin-nj-1-19-17/
LOCATION:First Presbyterian Church\, 1295 Oak Tree Road (enter on Middlesex Ave)\, Iselin\, NJ\, 08830\, United States
CATEGORIES:Support Group
ORGANIZER;CN="SAMHIN":MAILTO:info@samhin.org
END:VEVENT
BEGIN:VEVENT
DTSTART;TZID=America/New_York:20161113T083000
DTEND;TZID=America/New_York:20161113T130000
DTSTAMP:20260423T003205
CREATED:20161102T030212Z
LAST-MODIFIED:20161103T024501Z
UID:1096-1479025800-1479042000@samhin.org
SUMMARY:Health Screening and Prevention Fair
DESCRIPTION:Join Indian Health Camp of New Jersey and Shree Swaminarayan Temple at this free event for the people over age 40 without medical insurance. \nThe following services will be available: basic blood test\, electrocardiogram (EKG)\, eye examination\, physical examination\, cardiac evaluation and counseling\, cancer screening/prevention and education\, dental screening\, mental health screening\, physical therapy\, pharmacy and dietary counseling\, flu vaccine. \nPre registration is required by November 4\, 2016.  \nSee details on the event and how to register > \nDownload flyer >
URL:https://samhin.org/event/health-screening-and-prevention-fair/
LOCATION:Shree Swaminarayan Temple Secaucus\, 200 Penhorn Avenue\, Secaucus\, NJ\, 07094\, United States
CATEGORIES:Health Fair
END:VEVENT
BEGIN:VEVENT
DTSTART;TZID=America/New_York:20161009T090000
DTEND;TZID=America/New_York:20161009T120000
DTSTAMP:20260423T003205
CREATED:20161007T033028Z
LAST-MODIFIED:20161007T033920Z
UID:1076-1476003600-1476014400@samhin.org
SUMMARY:BAPS Charities Health Fair
DESCRIPTION:SAMHIN will participate in the BAPS Charities free health fair. \nJoin us if . . . \n\nYou would like to speak confidentially to the SAMHIN team of mental health providers.\nYou have any questions about loved one’s struggles with stress\, depression\, tension\, or alcohol or drug abuse.\nYou have any questions or need advice about any mental illness or addiction.\nYou would like a free mental health screening.\nYou have any questions about mental health diagnosis and treatment.\nYou have questions about where to go for mental health or addiction treatment.\n\nSee more information >
URL:https://samhin.org/event/baps-charities-health-fair/
LOCATION:BAPS Sri Swaminarayan Mandir (Askshardham)\, 112 N Main Street\, Robbinsville \, NJ\, 08561
CATEGORIES:Health Fair
END:VEVENT
BEGIN:VEVENT
DTSTART;TZID=America/New_York:20160917T170000
DTEND;TZID=America/New_York:20160917T210000
DTSTAMP:20260423T003205
CREATED:20160814T215537Z
LAST-MODIFIED:20160910T222837Z
UID:851-1474131600-1474146000@samhin.org
SUMMARY:Alcoholism in South Asians: Myths and Realities
DESCRIPTION:Join us for a special workshop on the myths and realities of alcoholism. SAMHIN panelists will speak about the following topics and then answer your questions. The workshop will be followed by dinner. \n\nCycle of Addiction\n\nDrinking in Youth\n\nPersonal Stories of Drinking\n\nAlcohol Consumption in Youth\n\nDestructive Consequences of Drinking\n\nTreatment Options and Solutions\n\n\n4:00 PM – 5:00 PM – Registration\, snacks\, and tea\n5:00 PM – Workshop begins \nRegister Today \nDownload Flyer
URL:https://samhin.org/event/alcoholism-south-asians-myths-realities/
LOCATION:First Presbyterian Church\, 1295 Oak Tree Road (enter on Middlesex Ave)\, Iselin\, NJ\, 08830\, United States
CATEGORIES:Workshop
ORGANIZER;CN="SAMHIN":MAILTO:info@samhin.org
END:VEVENT
END:VCALENDAR