BEGIN:VCALENDAR
VERSION:2.0
PRODID:-//SAMHIN - ECPv6.15.20//NONSGML v1.0//EN
CALSCALE:GREGORIAN
METHOD:PUBLISH
X-WR-CALNAME:SAMHIN
X-ORIGINAL-URL:https://samhin.org
X-WR-CALDESC:Events for SAMHIN
REFRESH-INTERVAL;VALUE=DURATION:PT1H
X-Robots-Tag:noindex
X-PUBLISHED-TTL:PT1H
BEGIN:VTIMEZONE
TZID:America/New_York
BEGIN:DAYLIGHT
TZOFFSETFROM:-0500
TZOFFSETTO:-0400
TZNAME:EDT
DTSTART:20160313T070000
END:DAYLIGHT
BEGIN:STANDARD
TZOFFSETFROM:-0400
TZOFFSETTO:-0500
TZNAME:EST
DTSTART:20161106T060000
END:STANDARD
BEGIN:DAYLIGHT
TZOFFSETFROM:-0500
TZOFFSETTO:-0400
TZNAME:EDT
DTSTART:20170312T070000
END:DAYLIGHT
BEGIN:STANDARD
TZOFFSETFROM:-0400
TZOFFSETTO:-0500
TZNAME:EST
DTSTART:20171105T060000
END:STANDARD
BEGIN:DAYLIGHT
TZOFFSETFROM:-0500
TZOFFSETTO:-0400
TZNAME:EDT
DTSTART:20180311T070000
END:DAYLIGHT
BEGIN:STANDARD
TZOFFSETFROM:-0400
TZOFFSETTO:-0500
TZNAME:EST
DTSTART:20181104T060000
END:STANDARD
END:VTIMEZONE
BEGIN:VEVENT
DTSTART;TZID=America/New_York:20170427T200000
DTEND;TZID=America/New_York:20170427T210000
DTSTAMP:20260422T201510
CREATED:20160720T034309Z
LAST-MODIFIED:20170121T051042Z
UID:746-1493323200-1493326800@samhin.org
SUMMARY:Alcoholics Anonymous (AA) Meeting
DESCRIPTION:  \nMany sufferers of alcohol abuse find it very helpful to attend local Alcoholics Anonymous (AA) meetings. South Asians often avoid attending AA meetings because they feel they do not fit in culturally. To address this cultural need\, SAMHIN created South Asian AA meetings. No appointment is necessary – any individual with an alcohol problem and a desire to quit is welcome.
URL:https://samhin.org/event/alcoholics-anonymous-meeting-iselin-nj-4-27-17/
LOCATION:First Presbyterian Church\, 1295 Oak Tree Road (enter on Middlesex Ave)\, Iselin\, NJ\, 08830\, United States
CATEGORIES:Support Group
ORGANIZER;CN="SAMHIN":MAILTO:info@samhin.org
END:VEVENT
BEGIN:VEVENT
DTSTART;TZID=America/New_York:20170420T200000
DTEND;TZID=America/New_York:20170420T210000
DTSTAMP:20260422T201510
CREATED:20160720T034535Z
LAST-MODIFIED:20170121T034409Z
UID:747-1492718400-1492722000@samhin.org
SUMMARY:Alcoholics Anonymous (AA) Meeting
DESCRIPTION:  \nMany sufferers of alcohol abuse find it very helpful to attend local Alcoholics Anonymous (AA) meetings. South Asians often avoid attending AA meetings because they feel they do not fit in culturally. To address this cultural need\, SAMHIN created South Asian AA meetings. No appointment is necessary – any individual with an alcohol problem and a desire to quit is welcome.
URL:https://samhin.org/event/alcoholics-anonymous-meeting-iselin-nj-4-20-17/
LOCATION:First Presbyterian Church\, 1295 Oak Tree Road (enter on Middlesex Ave)\, Iselin\, NJ\, 08830\, United States
CATEGORIES:Support Group
ORGANIZER;CN="SAMHIN":MAILTO:info@samhin.org
END:VEVENT
BEGIN:VEVENT
DTSTART;TZID=America/New_York:20170413T200000
DTEND;TZID=America/New_York:20170413T210000
DTSTAMP:20260422T201510
CREATED:20160720T034729Z
LAST-MODIFIED:20170121T034240Z
UID:748-1492113600-1492117200@samhin.org
SUMMARY:Alcoholics Anonymous (AA) Meeting
DESCRIPTION:  \nMany sufferers of alcohol abuse find it very helpful to attend local Alcoholics Anonymous (AA) meetings. South Asians often avoid attending AA meetings because they feel they do not fit in culturally. To address this cultural need\, SAMHIN created South Asian AA meetings. No appointment is necessary – any individual with an alcohol problem and a desire to quit is welcome.
URL:https://samhin.org/event/alcoholics-anonymous-meeting-iselin-nj-4-13-17/
LOCATION:First Presbyterian Church\, 1295 Oak Tree Road (enter on Middlesex Ave)\, Iselin\, NJ\, 08830\, United States
CATEGORIES:Support Group
ORGANIZER;CN="SAMHIN":MAILTO:info@samhin.org
END:VEVENT
BEGIN:VEVENT
DTSTART;TZID=America/New_York:20170406T200000
DTEND;TZID=America/New_York:20170406T210000
DTSTAMP:20260422T201510
CREATED:20160821T230726Z
LAST-MODIFIED:20170121T052258Z
UID:893-1491508800-1491512400@samhin.org
SUMMARY:Alcoholics Anonymous (AA) Meeting
DESCRIPTION:  \nMany sufferers of alcohol abuse find it very helpful to attend local Alcoholics Anonymous (AA) meetings. South Asians often avoid attending AA meetings because they feel they do not fit in culturally. To address this cultural need\, SAMHIN created South Asian AA meetings. No appointment is necessary – any individual with an alcohol problem and a desire to quit is welcome.
URL:https://samhin.org/event/alcoholics-anonymous-meeting-iselin-nj-4-6-17/
LOCATION:First Presbyterian Church\, 1295 Oak Tree Road (enter on Middlesex Ave)\, Iselin\, NJ\, 08830\, United States
CATEGORIES:Support Group
ORGANIZER;CN="SAMHIN":MAILTO:info@samhin.org
END:VEVENT
BEGIN:VEVENT
DTSTART;TZID=America/New_York:20170330T200000
DTEND;TZID=America/New_York:20170330T210000
DTSTAMP:20260422T201510
CREATED:20160821T231150Z
LAST-MODIFIED:20170121T051320Z
UID:894-1490904000-1490907600@samhin.org
SUMMARY:Alcoholics Anonymous (AA) Meeting
DESCRIPTION:  \nMany sufferers of alcohol abuse find it very helpful to attend local Alcoholics Anonymous (AA) meetings. South Asians often avoid attending AA meetings because they feel they do not fit in culturally. To address this cultural need\, SAMHIN created South Asian AA meetings. No appointment is necessary – any individual with an alcohol problem and a desire to quit is welcome.
URL:https://samhin.org/event/alcoholics-anonymous-meeting-iselin-nj-3-30-17/
LOCATION:First Presbyterian Church\, 1295 Oak Tree Road (enter on Middlesex Ave)\, Iselin\, NJ\, 08830\, United States
CATEGORIES:Support Group
ORGANIZER;CN="SAMHIN":MAILTO:info@samhin.org
END:VEVENT
BEGIN:VEVENT
DTSTART;TZID=America/New_York:20170323T200000
DTEND;TZID=America/New_York:20170323T210000
DTSTAMP:20260422T201510
CREATED:20160821T231426Z
LAST-MODIFIED:20170121T051354Z
UID:895-1490299200-1490302800@samhin.org
SUMMARY:Alcoholics Anonymous (AA) Meeting
DESCRIPTION:  \nMany sufferers of alcohol abuse find it very helpful to attend local Alcoholics Anonymous (AA) meetings. South Asians often avoid attending AA meetings because they feel they do not fit in culturally. To address this cultural need\, SAMHIN created South Asian AA meetings. No appointment is necessary – any individual with an alcohol problem and a desire to quit is welcome.
URL:https://samhin.org/event/alcoholics-anonymous-meeting-iselin-nj-3-23-17/
LOCATION:First Presbyterian Church\, 1295 Oak Tree Road (enter on Middlesex Ave)\, Iselin\, NJ\, 08830\, United States
CATEGORIES:Support Group
ORGANIZER;CN="SAMHIN":MAILTO:info@samhin.org
END:VEVENT
BEGIN:VEVENT
DTSTART;TZID=America/New_York:20170316T200000
DTEND;TZID=America/New_York:20170316T210000
DTSTAMP:20260422T201510
CREATED:20160821T232131Z
LAST-MODIFIED:20170121T051431Z
UID:897-1489694400-1489698000@samhin.org
SUMMARY:Alcoholics Anonymous (AA) Meeting
DESCRIPTION:  \nMany sufferers of alcohol abuse find it very helpful to attend local Alcoholics Anonymous (AA) meetings. South Asians often avoid attending AA meetings because they feel they do not fit in culturally. To address this cultural need\, SAMHIN created South Asian AA meetings. No appointment is necessary – any individual with an alcohol problem and a desire to quit is welcome.
URL:https://samhin.org/event/alcoholics-anonymous-meeting-iselin-nj-3-16-17/
LOCATION:First Presbyterian Church\, 1295 Oak Tree Road (enter on Middlesex Ave)\, Iselin\, NJ\, 08830\, United States
CATEGORIES:Support Group
ORGANIZER;CN="SAMHIN":MAILTO:info@samhin.org
END:VEVENT
BEGIN:VEVENT
DTSTART;TZID=America/New_York:20170309T200000
DTEND;TZID=America/New_York:20170309T210000
DTSTAMP:20260422T201510
CREATED:20160821T232357Z
LAST-MODIFIED:20170121T051718Z
UID:898-1489089600-1489093200@samhin.org
SUMMARY:Alcoholics Anonymous (AA) Meeting
DESCRIPTION:  \nMany sufferers of alcohol abuse find it very helpful to attend local Alcoholics Anonymous (AA) meetings. South Asians often avoid attending AA meetings because they feel they do not fit in culturally. To address this cultural need\, SAMHIN created South Asian AA meetings. No appointment is necessary – any individual with an alcohol problem and a desire to quit is welcome.
URL:https://samhin.org/event/alcoholics-anonymous-meeting-iselin-nj-3-9-17/
LOCATION:First Presbyterian Church\, 1295 Oak Tree Road (enter on Middlesex Ave)\, Iselin\, NJ\, 08830\, United States
CATEGORIES:Support Group
ORGANIZER;CN="SAMHIN":MAILTO:info@samhin.org
END:VEVENT
BEGIN:VEVENT
DTSTART;TZID=America/New_York:20170302T200000
DTEND;TZID=America/New_York:20170302T210000
DTSTAMP:20260422T201510
CREATED:20160821T232638Z
LAST-MODIFIED:20170121T051751Z
UID:899-1488484800-1488488400@samhin.org
SUMMARY:Alcoholics Anonymous (AA) Meeting
DESCRIPTION:  \nMany sufferers of alcohol abuse find it very helpful to attend local Alcoholics Anonymous (AA) meetings. South Asians often avoid attending AA meetings because they feel they do not fit in culturally. To address this cultural need\, SAMHIN created South Asian AA meetings. No appointment is necessary – any individual with an alcohol problem and a desire to quit is welcome.
URL:https://samhin.org/event/alcoholics-anonymous-meeting-iselin-nj-3-2-17/
LOCATION:First Presbyterian Church\, 1295 Oak Tree Road (enter on Middlesex Ave)\, Iselin\, NJ\, 08830\, United States
CATEGORIES:Support Group
ORGANIZER;CN="SAMHIN":MAILTO:info@samhin.org
END:VEVENT
BEGIN:VEVENT
DTSTART;TZID=America/New_York:20170223T200000
DTEND;TZID=America/New_York:20170223T210000
DTSTAMP:20260422T201510
CREATED:20160821T232903Z
LAST-MODIFIED:20170121T051827Z
UID:900-1487880000-1487883600@samhin.org
SUMMARY:Alcoholics Anonymous (AA) Meeting
DESCRIPTION:  \nMany sufferers of alcohol abuse find it very helpful to attend local Alcoholics Anonymous (AA) meetings. South Asians often avoid attending AA meetings because they feel they do not fit in culturally. To address this cultural need\, SAMHIN created South Asian AA meetings. No appointment is necessary – any individual with an alcohol problem and a desire to quit is welcome.
URL:https://samhin.org/event/alcoholics-anonymous-meeting-iselin-nj-2-23-17/
LOCATION:First Presbyterian Church\, 1295 Oak Tree Road (enter on Middlesex Ave)\, Iselin\, NJ\, 08830\, United States
CATEGORIES:Support Group
ORGANIZER;CN="SAMHIN":MAILTO:info@samhin.org
END:VEVENT
BEGIN:VEVENT
DTSTART;TZID=America/New_York:20170216T200000
DTEND;TZID=America/New_York:20170216T210000
DTSTAMP:20260422T201510
CREATED:20160821T233136Z
LAST-MODIFIED:20170121T051903Z
UID:901-1487275200-1487278800@samhin.org
SUMMARY:Alcoholics Anonymous (AA) Meeting
DESCRIPTION:  \nMany sufferers of alcohol abuse find it very helpful to attend local Alcoholics Anonymous (AA) meetings. South Asians often avoid attending AA meetings because they feel they do not fit in culturally. To address this cultural need\, SAMHIN created South Asian AA meetings. No appointment is necessary – any individual with an alcohol problem and a desire to quit is welcome.
URL:https://samhin.org/event/alcoholics-anonymous-meeting-iselin-nj-2-16-17/
LOCATION:First Presbyterian Church\, 1295 Oak Tree Road (enter on Middlesex Ave)\, Iselin\, NJ\, 08830\, United States
CATEGORIES:Support Group
ORGANIZER;CN="SAMHIN":MAILTO:info@samhin.org
END:VEVENT
BEGIN:VEVENT
DTSTART;TZID=America/New_York:20170209T080000
DTEND;TZID=America/New_York:20170209T210000
DTSTAMP:20260422T201510
CREATED:20170120T042945Z
LAST-MODIFIED:20170120T042945Z
UID:1129-1486627200-1486674000@samhin.org
SUMMARY:Alcoholics Anonymous Meeting
DESCRIPTION:  \nMany sufferers of alcohol abuse find it very helpful to attend local Alcoholics Anonymous (AA) meetings. South Asians often avoid attending AA meetings because they feel they do not fit in culturally. To address this cultural need\, SAMHIN created South Asian AA meetings. No appointment is necessary – any individual with an alcohol problem and a desire to quit is welcome.
URL:https://samhin.org/event/alcoholics-anonymous-meeting-iselin-nj-2-9-17/
LOCATION:First Presbyterian Church\, 1295 Oak Tree Road (enter on Middlesex Ave)\, Iselin\, NJ\, 08830\, United States
CATEGORIES:Support Group
END:VEVENT
BEGIN:VEVENT
DTSTART;TZID=America/New_York:20170202T200000
DTEND;TZID=America/New_York:20170202T210000
DTSTAMP:20260422T201510
CREATED:20160821T233446Z
LAST-MODIFIED:20170121T052016Z
UID:902-1486065600-1486069200@samhin.org
SUMMARY:Alcoholics Anonymous (AA) Meeting
DESCRIPTION:  \nMany sufferers of alcohol abuse find it very helpful to attend local Alcoholics Anonymous (AA) meetings. South Asians often avoid attending AA meetings because they feel they do not fit in culturally. To address this cultural need\, SAMHIN created South Asian AA meetings. No appointment is necessary – any individual with an alcohol problem and a desire to quit is welcome.
URL:https://samhin.org/event/alcoholics-anonymous-meeting-iselin-nj-2-2-17/
LOCATION:First Presbyterian Church\, 1295 Oak Tree Road (enter on Middlesex Ave)\, Iselin\, NJ\, 08830\, United States
CATEGORIES:Support Group
ORGANIZER;CN="SAMHIN":MAILTO:info@samhin.org
END:VEVENT
BEGIN:VEVENT
DTSTART;TZID=America/New_York:20170126T200000
DTEND;TZID=America/New_York:20170126T210000
DTSTAMP:20260422T201510
CREATED:20160821T233738Z
LAST-MODIFIED:20170121T052056Z
UID:903-1485460800-1485464400@samhin.org
SUMMARY:Alcoholics Anonymous (AA) Meeting
DESCRIPTION:  \nMany sufferers of alcohol abuse find it very helpful to attend local Alcoholics Anonymous (AA) meetings. South Asians often avoid attending AA meetings because they feel they do not fit in culturally. To address this cultural need\, SAMHIN created South Asian AA meetings. No appointment is necessary – any individual with an alcohol problem and a desire to quit is welcome.
URL:https://samhin.org/event/alcoholics-anonymous-meeting-iselin-nj-1-26-17/
LOCATION:First Presbyterian Church\, 1295 Oak Tree Road (enter on Middlesex Ave)\, Iselin\, NJ\, 08830\, United States
CATEGORIES:Support Group
ORGANIZER;CN="SAMHIN":MAILTO:info@samhin.org
END:VEVENT
BEGIN:VEVENT
DTSTART;TZID=America/New_York:20170119T200000
DTEND;TZID=America/New_York:20170119T210000
DTSTAMP:20260422T201510
CREATED:20160821T233947Z
LAST-MODIFIED:20170121T052135Z
UID:904-1484856000-1484859600@samhin.org
SUMMARY:Alcoholics Anonymous (AA) Meeting
DESCRIPTION:  \nMany sufferers of alcohol abuse find it very helpful to attend local Alcoholics Anonymous (AA) meetings. South Asians often avoid attending AA meetings because they feel they do not fit in culturally. To address this cultural need\, SAMHIN created South Asian AA meetings. No appointment is necessary – any individual with an alcohol problem and a desire to quit is welcome.
URL:https://samhin.org/event/alcoholics-anonymous-meeting-iselin-nj-1-19-17/
LOCATION:First Presbyterian Church\, 1295 Oak Tree Road (enter on Middlesex Ave)\, Iselin\, NJ\, 08830\, United States
CATEGORIES:Support Group
ORGANIZER;CN="SAMHIN":MAILTO:info@samhin.org
END:VEVENT
END:VCALENDAR